BEGIN:VCALENDAR
VERSION:2.0
PRODID:-//ReposiTrak - ECPv5.2.1.1//NONSGML v1.0//EN
CALSCALE:GREGORIAN
METHOD:PUBLISH
X-WR-CALNAME:ReposiTrak
X-ORIGINAL-URL:https://repositrak.com
X-WR-CALDESC:Events for ReposiTrak
BEGIN:VTIMEZONE
TZID:America/New_York
BEGIN:DAYLIGHT
TZOFFSETFROM:-0500
TZOFFSETTO:-0400
TZNAME:EDT
DTSTART:20240310T070000
END:DAYLIGHT
BEGIN:STANDARD
TZOFFSETFROM:-0400
TZOFFSETTO:-0500
TZNAME:EST
DTSTART:20241103T060000
END:STANDARD
END:VTIMEZONE
BEGIN:VEVENT
DTSTART;TZID=America/New_York:20240304T130000
DTEND;TZID=America/New_York:20240304T140000
DTSTAMP:20260423T201706
CREATED:20240412T134822Z
LAST-MODIFIED:20240412T135632Z
UID:13109-1709557200-1709560800@repositrak.com
SUMMARY:Traceability Changes Everything for Retailers and Wholesalers: Are the Legal Threats Worse Than You Think?
DESCRIPTION:[vc_row][vc_column][vc_cta h2=”Register for Webinar” h2_font_container=”font_size:24″ h2_use_theme_fonts=”yes” txt_align=”center” add_button=”bottom” btn_title=”Register Now” btn_color=”danger” btn_align=”center” btn_i_type=”material” btn_i_icon_material=”vc-material vc-material-ondemand_video” use_custom_fonts_h2=”true” btn_add_icon=”true” btn_link=”url:https%3A%2F%2Fattendee.gotowebinar.com%2Fregister%2F1769359834804571734″][/vc_cta][vc_empty_space][vc_column_text]Traceability has changed the food supply chain industry forever. It threatens every process and introduces legal pressures that you never saw coming. \nWhat are major retailers\, wholesalers and distributors – including Kroger – doing in response? They’re leaning in. \nIf you want to comply\, you need to join us for this URGENT discussion with Shawn Stevens\, food industry lawyer and founder of Food Industry Counsel\, LLC.[/vc_column_text][/vc_column][/vc_row][vc_row][vc_column][vc_column_text] \nMeet the Speakers:\n[/vc_column_text][/vc_column][/vc_row][vc_row css=”.vc_custom_1587414944416{margin-top: 22px !important;}”][vc_column width=”1/4″][vc_column_text] \n[/vc_column_text][vc_empty_space height=”22px”][/vc_column][vc_column width=”3/4″][vc_column_text css=”.vc_custom_1690561308370{margin-bottom: 22px !important;}”] \nShawn Stevens\nFood Industry Counsel Attorney\nFood Industry Counsel \n[/vc_column_text][/vc_column][/vc_row][vc_row][vc_column][vc_empty_space][vc_separator][vc_empty_space]
URL:https://repositrak.com/event/traceability-changes-everything-for-retailers-and-wholesalers-are-the-legal-threats-worse-than-you-think/
CATEGORIES:Webinar
END:VEVENT
END:VCALENDAR